BEGIN:VCALENDAR
VERSION:2.0
PRODID:-//SALSA NEPAL  - ECPv6.15.20//NONSGML v1.0//EN
CALSCALE:GREGORIAN
METHOD:PUBLISH
X-WR-CALNAME:SALSA NEPAL 
X-ORIGINAL-URL:https://salsanepal.com
X-WR-CALDESC:Events for SALSA NEPAL 
REFRESH-INTERVAL;VALUE=DURATION:PT1H
X-Robots-Tag:noindex
X-PUBLISHED-TTL:PT1H
BEGIN:VTIMEZONE
TZID:Asia/Kathmandu
BEGIN:STANDARD
TZOFFSETFROM:+0545
TZOFFSETTO:+0545
TZNAME:+0545
DTSTART:20250101T000000
END:STANDARD
END:VTIMEZONE
BEGIN:VEVENT
DTSTART;TZID=Asia/Kathmandu:20260105T190000
DTEND;TZID=Asia/Kathmandu:20260105T220000
DTSTAMP:20260420T162428
CREATED:20260101T104109Z
LAST-MODIFIED:20260101T104109Z
UID:831-1767639600-1767650400@salsanepal.com
SUMMARY:MONDAY NIGHT SOCIALS
DESCRIPTION:MONDAY NIGHT SOCIALS\nStart your week with music\, dance & laughter! \nGet 10% OFF on Food & Beverage from Regular Menu at Saké & Feng \nShare your MONDAY NIGHT SOCIAL – Salsa Party\nphotos and videos\nTAG @SakeAndFeng & @salsanepal\nThe post with the highest likes will get a chance to redeem food & beverage equal to the number of likes at Sake & Feng \nAll dancers welcome – beginners\, intermediates or pros…\nLet’s make Monday magical! \nHosted by SALSA NEPAL \n🗓️Monday\, 5th January 2026\n🏨 Saké & Feng\, Hotel Le Himalaya – Lazimpat\n⏰ 7PM – 10 PM\n🎧 Music by DJ BNYK – Salsa • Bachata • Kizomba\n🎟️ Free Entry | Free Parking \nBring your friends\, your dance shoes and your best smile – it’s your night! \n#mondaynightsocials #salsanepal #salsadance #sakeandfeng #djbnyk #latindance #latinmusic #lazimpatkathmandu\n#salsamandu #bachatandu #latinmandu
URL:https://salsanepal.com/event/monday-night-socials-5/
LOCATION:Saké & Feng\, Hotel Le Himalaya\, Hotel Le Himalaya\, Kathmandu\, Bagmati\, 446000\, Nepal
CATEGORIES:SBK Party
ATTACH;FMTTYPE=image/jpeg:https://salsanepal.com/wp-content/uploads/2026/01/Jan-5-Monday-Nigth-Socials-Covers.jpg
ORGANIZER;CN="Salsa Nepal":MAILTO:info@salsanepal.com
END:VEVENT
BEGIN:VEVENT
DTSTART;TZID=Asia/Kathmandu:20260117T193000
DTEND;TZID=Asia/Kathmandu:20260117T233000
DTSTAMP:20260420T162428
CREATED:20260112T061547Z
LAST-MODIFIED:20260112T061547Z
UID:851-1768678200-1768692600@salsanepal.com
SUMMARY:Sabor Y Salsa - Saturday Salsa Party @ Charlie's
DESCRIPTION:🔥 SABOR CON SALSA 🔥 Feel the Latin fire………..\nThis Saturday\, 17th Jan\, step into a night of smooth salsa\, warm connections and irresistible Latin beats. Let your body speak the language of music and let your feet tell the story. \nSalsa Nepal presents – Salsa Party \n🎧 DJ BNYK 🎶 Music: Salsa • Bachata • Kizomba \n✨ Salsa Party Vibes 🕺 Sensual moves | 💃 Real connections \n🎉 FREE ENTRY \n⏰ From 7:30 PM onwards \n🚗 Free Parking \n📍 Charlie’s Café | Restro | Bar (Lal Durbar Colony Marg\, Narayanhiti\, Durbarmarg) \nTurn up\, dress up and dance the night away – because salsa is not just a dance\, it’s a feeling \n🔥💃 #SaborConSalsa #SalsaParty #SalsaNepal #CharliesCafe #LatinNight #DanceKathmandu #FeelTheRhythm #LatinVibes
URL:https://salsanepal.com/event/sabor-y-salsa-saturday-salsa-party-charlies/
LOCATION:Charlie’s Cafe | Restro | Bar\, Lal Colony Marga\, Kathmandu\, Bagmati\, 446000\, Nepal
CATEGORIES:SBK Party
ATTACH;FMTTYPE=image/jpeg:https://salsanepal.com/wp-content/uploads/2026/01/Jan-17-WEB-Salsa-Party-4x5-layout.jpg
ORGANIZER;CN="Salsa Nepal":MAILTO:info@salsanepal.com
END:VEVENT
BEGIN:VEVENT
DTSTART;TZID=Asia/Kathmandu:20260119T190000
DTEND;TZID=Asia/Kathmandu:20260119T223000
DTSTAMP:20260420T162428
CREATED:20260116T054612Z
LAST-MODIFIED:20260116T054612Z
UID:857-1768849200-1768861800@salsanepal.com
SUMMARY:Monday Night Socials
DESCRIPTION:MONDAY NIGHT SOCIALS\nStart your week with music\, dance & laughter! \nGet 10% OFF on Food & Beverage from Regular Menu at Saké & Feng \nShare your MONDAY NIGHT SOCIAL – Salsa Party\nphotos and videos\nTAG @SakeAndFeng & @salsanepal\nThe post with the highest likes will get a chance to redeem food & beverage equal to the number of likes at Sake & Feng \nAll dancers welcome – beginners\, intermediates or pros…\nLet’s make Monday magical! \nHosted by SALSA NEPAL \nMonday\, 19th January 2026\n Saké & Feng\, Hotel Le Himalaya – Lazimpat\n 7PM – 10 PM\n Music by DJ BNYK – Salsa • Bachata • Kizomba\n Free Entry | Free Parking \nBring your friends\, your dance shoes and your best smile – it’s your night! \n#mondaynightsocials #salsanepal #salsadance #sakeandfeng #djbnyk #latindance #latinmusic #lazimpatkathmandu\n#salsamandu #bachatandu #latinmandu
URL:https://salsanepal.com/event/monday-night-socials-6/
LOCATION:Saké & Feng\, Hotel Le Himalaya\, Hotel Le Himalaya\, Kathmandu\, Bagmati\, 446000\, Nepal
CATEGORIES:SBK Party
ATTACH;FMTTYPE=image/jpeg:https://salsanepal.com/wp-content/uploads/2026/01/Jan-19-Monday-Nigth-Socials-Covers.jpg
ORGANIZER;CN="Salsa Nepal":MAILTO:info@salsanepal.com
END:VEVENT
END:VCALENDAR