BEGIN:VCALENDAR
VERSION:2.0
PRODID:-//SALSA NEPAL  - ECPv6.15.20//NONSGML v1.0//EN
CALSCALE:GREGORIAN
METHOD:PUBLISH
X-ORIGINAL-URL:https://salsanepal.com
X-WR-CALDESC:Events for SALSA NEPAL 
REFRESH-INTERVAL;VALUE=DURATION:PT1H
X-Robots-Tag:noindex
X-PUBLISHED-TTL:PT1H
BEGIN:VTIMEZONE
TZID:Asia/Kathmandu
BEGIN:STANDARD
TZOFFSETFROM:+0545
TZOFFSETTO:+0545
TZNAME:+0545
DTSTART:20240101T000000
END:STANDARD
END:VTIMEZONE
BEGIN:VEVENT
DTSTART;TZID=Asia/Kathmandu:20251201T180000
DTEND;TZID=Asia/Kathmandu:20251201T220000
DTSTAMP:20260420T175425
CREATED:20251126T083739Z
LAST-MODIFIED:20251126T083739Z
UID:732-1764612000-1764626400@salsanepal.com
SUMMARY:Monday Night Socials at Saké & Feng
DESCRIPTION:MONDAY NIGHT SOCIALS\nStart your week with music\, dance & laughter! \nAll dancers welcome – beginners\, intermediates or pros…\nLet’s make Monday magical! ❤️ \n️Monday\, 1st December 2025\nSaké & Feng\, Hotel Le Himalaya – Lazimpat\n⏰ 6 PM – 10 PM\nMusic by DJ BNYK – Salsa • Bachata • Kizomba\n️ Free Entry | Free Parking \nHosted by Salsa Nepal – come\, dance\, connect & create memories! \n#mondaynightsocials #salsanepal #salsadance #sakeandfeng #djbnyk #latindance #latinmusic #lazimpatkathmandu #salsamandu #bachatandu #latinmandu
URL:https://salsanepal.com/event/monday-night-socials-at-sake-feng/
LOCATION:Saké & Feng\, Hotel Le Himalaya\, Hotel Le Himalaya\, Kathmandu\, Bagmati\, 446000\, Nepal
CATEGORIES:SBK Party
ATTACH;FMTTYPE=image/jpeg:https://salsanepal.com/wp-content/uploads/2025/11/Dec-1-Monday-Night-Social-FI-Cover.jpg
ORGANIZER;CN="Salsa Nepal":MAILTO:info@salsanepal.com
END:VEVENT
BEGIN:VEVENT
DTSTART;TZID=Asia/Kathmandu:20251208T190000
DTEND;TZID=Asia/Kathmandu:20251208T220000
DTSTAMP:20260420T175425
CREATED:20251204T192855Z
LAST-MODIFIED:20251204T192855Z
UID:747-1765220400-1765231200@salsanepal.com
SUMMARY:MONDAY NIGHT SOCIALS
DESCRIPTION:MONDAY NIGHT SOCIALS\nStart your week with music\, dance & laughter! \nAll dancers welcome – beginners\, intermediates or pros…\nLet’s make Monday magical!  \n️Monday\, 1st December 2025\nSaké & Feng\, Hotel Le Himalaya – Lazimpat\n 7 PM – 10 PM \nMusic by DJ BNYK – Salsa • Bachata • Kizomba\n️ Free Entry | Free Parking \nHosted by Salsa Nepal – come\, dance\, connect & create memories! \n#mondaynightsocials #salsanepal #salsadance #sakeandfeng #djbnyk #latindance #latinmusic #lazimpatkathmandu #salsamandu #bachatandu #latinmandu
URL:https://salsanepal.com/event/monday-night-socials-2/
LOCATION:Saké & Feng\, Hotel Le Himalaya\, Hotel Le Himalaya\, Kathmandu\, Bagmati\, 446000\, Nepal
CATEGORIES:SBK Party
ATTACH;FMTTYPE=image/jpeg:https://salsanepal.com/wp-content/uploads/2025/12/Dec-8-Monday-Nigth-Socials-Covers.jpg
ORGANIZER;CN="Salsa Nepal":MAILTO:info@salsanepal.com
END:VEVENT
BEGIN:VEVENT
DTSTART;TZID=Asia/Kathmandu:20251215T190000
DTEND;TZID=Asia/Kathmandu:20251215T220000
DTSTAMP:20260420T175425
CREATED:20251216T062620Z
LAST-MODIFIED:20251216T062620Z
UID:776-1765825200-1765836000@salsanepal.com
SUMMARY:MONDAY NIGHT SOCIALS
DESCRIPTION:MONDAY NIGHT SOCIALS\nStart your week with music\, dance & laughter! \nAll dancers welcome – beginners\, intermediates or pros…\nLet’s make Monday magical!  \n️Monday\, 15 December 2025\nSaké & Feng\, Hotel Le Himalaya – Lazimpat\n 7 PM – 10 PM \nMusic by DJ BNYK – Salsa • Bachata • Kizomba\n️ Free Entry | Free Parking \nHosted by Salsa Nepal – come\, dance\, connect & create memories! \n#mondaynightsocials #salsanepal #salsadance #sakeandfeng #djbnyk #latindance #latinmusic #lazimpatkathmandu #salsamandu #bachatandu #latinmandu
URL:https://salsanepal.com/event/monday-night-socials/
LOCATION:Saké & Feng\, Hotel Le Himalaya\, Hotel Le Himalaya\, Kathmandu\, Bagmati\, 446000\, Nepal
CATEGORIES:SBK Party
ORGANIZER;CN="Salsa Nepal":MAILTO:info@salsanepal.com
END:VEVENT
BEGIN:VEVENT
DTSTART;TZID=Asia/Kathmandu:20251222T190000
DTEND;TZID=Asia/Kathmandu:20251222T220000
DTSTAMP:20260420T175425
CREATED:20251216T063508Z
LAST-MODIFIED:20251216T063542Z
UID:779-1766430000-1766440800@salsanepal.com
SUMMARY:MONDAY NIGHT SOCIALS
DESCRIPTION:MONDAY NIGHT SOCIALS\nStart your week with music\, dance & laughter! \nAll dancers welcome – beginners\, intermediates or pros…\nLet’s make Monday magical!  \n️Monday\, 22 December 2025\nSaké & Feng\, Hotel Le Himalaya – Lazimpat\n 7 PM – 10 PM \nMusic by DJ BNYK – Salsa • Bachata • Kizomba\n️ Free Entry | Free Parking \nHosted by Salsa Nepal – come\, dance\, connect & create memories! \n#mondaynightsocials #salsanepal #salsadance #sakeandfeng #djbnyk #latindance #latinmusic #lazimpatkathmandu #salsamandu #bachatandu #latinmandu
URL:https://salsanepal.com/event/monday-night-socials-3/
LOCATION:Saké & Feng\, Hotel Le Himalaya\, Hotel Le Himalaya\, Kathmandu\, Bagmati\, 446000\, Nepal
CATEGORIES:SBK Party
ATTACH;FMTTYPE=image/jpeg:https://salsanepal.com/wp-content/uploads/2025/12/DEC-22-WEB-Monday-Nigth-Socials-Covers.jpg
ORGANIZER;CN="Salsa Nepal":MAILTO:info@salsanepal.com
END:VEVENT
BEGIN:VEVENT
DTSTART;TZID=Asia/Kathmandu:20251229T190000
DTEND;TZID=Asia/Kathmandu:20251229T220000
DTSTAMP:20260420T175425
CREATED:20251224T045200Z
LAST-MODIFIED:20251224T045200Z
UID:807-1767034800-1767045600@salsanepal.com
SUMMARY:MONDAY NIGHT SOCIALS
DESCRIPTION:MONDAY NIGHT SOCIALS\nStart your week with music\, dance & laughter! \nAll dancers welcome – beginners\, intermediates or pros…\nLet’s make Monday magical!  \n️Monday\, 29 December 2025\nSaké & Feng\, Hotel Le Himalaya – Lazimpat\n 7 PM – 10 PM \nMusic by DJ BNYK – Salsa • Bachata • Kizomba\nFree Entry | Free Parking \nHosted by Salsa Nepal – come\, dance\, connect & create memories! \n#mondaynightsocials #salsanepal #salsadance #sakeandfeng #djbnyk #latindance #latinmusic #lazimpatkathmandu #salsamandu #bachatandu #latinmandu
URL:https://salsanepal.com/event/monday-night-socials-4/
LOCATION:Saké & Feng\, Hotel Le Himalaya\, Hotel Le Himalaya\, Kathmandu\, Bagmati\, 446000\, Nepal
CATEGORIES:SBK Party
ATTACH;FMTTYPE=image/jpeg:https://salsanepal.com/wp-content/uploads/2025/12/Dec-29-WEB-Monday-Nigth-Socials-Covers.jpg
ORGANIZER;CN="Salsa Nepal":MAILTO:info@salsanepal.com
END:VEVENT
BEGIN:VEVENT
DTSTART;TZID=Asia/Kathmandu:20251231T193000
DTEND;TZID=Asia/Kathmandu:20251231T193000
DTSTAMP:20260420T175425
CREATED:20251221T060958Z
LAST-MODIFIED:20251221T061417Z
UID:792-1767209400-1767209400@salsanepal.com
SUMMARY:New Year’s Eve - SBK Party
DESCRIPTION:New Year’s Eve SBK Party – 31st December 2025 ✨\nGet ready to step into 2026 with rhythm\, music and dance moves!💃🕺 \nCome celebrate the last evening of the year with pure dance energy and welcome the New Year with joy. \nHosted by Salsa Nepal \n🎧 Music by DJ BNYK\nSalsa • Bachata • Kizomba and more… \n⏰ 7:30 PM onwards\n📍 Himalayan Restro & Events\, Hattisar (Previously Nepal House)\n🍽️ Food & Drinks\n🅿️ Free Parking \nDress up\, show up and let the music take over – because the best way to start the New Year is by dancing your heart out 💖 \nLet’s make this New Year’s Eve truly memorable! \n#NewYearEveSBKParty #SalsaNepal #LatinMandu #SalsaMandu #PartyWithDJBNYK #SalsaBachataKizomba #NewYearVibes #DanceYourHeartOut #CelebrateWithDance #2026Begins #GoodBye2025
URL:https://salsanepal.com/event/new-years-eve-sbk-party/
LOCATION:Himalayan Restro & Events\, Hattisar\, Kathmandu\, Bagmati\, 446000\, Nepal
CATEGORIES:SBK Party
ATTACH;FMTTYPE=image/jpeg:https://salsanepal.com/wp-content/uploads/2025/12/Dec-31-WEB-logo-edited-New-Year-Eve-Salsa-Party-2025.jpg
END:VEVENT
END:VCALENDAR