BEGIN:VCALENDAR
VERSION:2.0
PRODID:-//SALSA NEPAL  - ECPv6.15.20//NONSGML v1.0//EN
CALSCALE:GREGORIAN
METHOD:PUBLISH
X-ORIGINAL-URL:https://salsanepal.com
X-WR-CALDESC:Events for SALSA NEPAL 
REFRESH-INTERVAL;VALUE=DURATION:PT1H
X-Robots-Tag:noindex
X-PUBLISHED-TTL:PT1H
BEGIN:VTIMEZONE
TZID:Asia/Kathmandu
BEGIN:STANDARD
TZOFFSETFROM:+0545
TZOFFSETTO:+0545
TZNAME:+0545
DTSTART:20240101T000000
END:STANDARD
END:VTIMEZONE
BEGIN:VEVENT
DTSTART;TZID=Asia/Kathmandu:20250501T193000
DTEND;TZID=Asia/Kathmandu:20250501T233000
DTSTAMP:20260421T051927
CREATED:20250428T180623Z
LAST-MODIFIED:20250428T180809Z
UID:453-1746127800-1746142200@salsanepal.com
SUMMARY:Social Salsa Party S02E152
DESCRIPTION:SOCIAL SALSA NIGHT ❤️”It’s your Party” \nSOCIAL SALSA PARTY ‘Season 2’ Ep. 152\nSALSA NEPAL’s – SALSA PARTY- EVERY THURSDAY – May 1\, 2025 \n7:30PM onwards – FREE ENTRANCE \n@londonpub.ktm – with Salsa Nepal\nMUSIC by DJ BNYK @binayek\n.\n.\n.\n.\n#salsa #danceclass #forbeginners #dance #nepal #salsanepal #sdanepal #latinmandu #salsamandu #trending #music #love #dancing #dancers #salsaparty #art #instagram #dancelife #explorepage #follow #trending #fitness #viral #dancersofinstagram #fun #explore #likeforlikes #bhfyp #latinmandu
URL:https://salsanepal.com/event/social-salsa-party-s02e152/
LOCATION:Bagmati
CATEGORIES:SBK Party,Social Salsa
ATTACH;FMTTYPE=image/jpeg:https://salsanepal.com/wp-content/uploads/2025/04/May-01-WEB-Social-Salsa-2024-Edited-File-1x1-1.jpg
END:VEVENT
BEGIN:VEVENT
DTSTART;TZID=Asia/Kathmandu:20250507T200000
DTEND;TZID=Asia/Kathmandu:20250507T220000
DTSTAMP:20260421T051927
CREATED:20250504T040915Z
LAST-MODIFIED:20250504T040915Z
UID:461-1746648000-1746655200@salsanepal.com
SUMMARY:Salsa & Stilettos @ Raksi Music Bar
DESCRIPTION:Step into your stilettos and sway to the rhythm!  Salsa & Stilettos is your midweek glam escape—where the beats are hot\, the drinks are smooth\, and the dance floor is calling. \nEvery Wednesday | 5 PM – 10 PM\nSalsa with Binayek | 8 PM – 10 PM\nFirst drink on the house for all ladies! \nTag your dance squad and let’s salsa the night away! \nRaksi Bar\, Marriott Kathmandu\n+977-9801971644
URL:https://salsanepal.com/event/salsa-stilettos-raksi-music-bar-6/
LOCATION:Raksi Music Bar\, Hotel Marriott\, Manakamana Marg\, Kathmandu\, Bagmati\, 446000\, Nepal
CATEGORIES:SBK Party
ATTACH;FMTTYPE=image/jpeg:https://salsanepal.com/wp-content/uploads/2025/04/WhatsApp-Image-2025-04-02-at-14.49.58.jpeg
ORGANIZER;CN="Salsa Nepal":MAILTO:info@salsanepal.com
END:VEVENT
BEGIN:VEVENT
DTSTART;TZID=Asia/Kathmandu:20250508T193000
DTEND;TZID=Asia/Kathmandu:20250508T233000
DTSTAMP:20260421T051927
CREATED:20250504T040744Z
LAST-MODIFIED:20250504T040744Z
UID:458-1746732600-1746747000@salsanepal.com
SUMMARY:Social Salsa Party S02E153
DESCRIPTION:SOCIAL SALSA NIGHT ❤️”It’s your Party” \nSOCIAL SALSA PARTY ‘Season 2’ Ep. 153\nSALSA NEPAL’s – SALSA PARTY- EVERY THURSDAY – May 8\, 2025 \n7:30PM onwards – FREE ENTRANCE \n@londonpub.ktm – with Salsa Nepal\nMUSIC by DJ BNYK @binayek\n.\n.\n.\n.\n#salsa #danceclass #forbeginners #dance #nepal #salsanepal #sdanepal #latinmandu #salsamandu #trending #music #love #dancing #dancers #salsaparty #art #instagram #dancelife #explorepage #follow #trending #fitness #viral #dancersofinstagram #fun #explore #likeforlikes #bhfyp #latinmandu
URL:https://salsanepal.com/event/social-salsa-party-s02e153/
LOCATION:London Pub\, Durbarmarg\, Kathmandu\, Bagmati\, 44600\, Nepal
CATEGORIES:SBK Party,Social Salsa
ATTACH;FMTTYPE=image/jpeg:https://salsanepal.com/wp-content/uploads/2025/05/may-8-WEB-Social-Salsa-2024-Edited-File-1x1-1.jpg
ORGANIZER;CN="Salsa Nepal":MAILTO:info@salsanepal.com
END:VEVENT
BEGIN:VEVENT
DTSTART;TZID=Asia/Kathmandu:20250515T193000
DTEND;TZID=Asia/Kathmandu:20250515T233000
DTSTAMP:20260421T051927
CREATED:20250512T110239Z
LAST-MODIFIED:20250512T110239Z
UID:466-1747337400-1747351800@salsanepal.com
SUMMARY:Social Salsa Party S02E154
DESCRIPTION:SOCIAL SALSA NIGHT ”It’s your Party” \nSOCIAL SALSA PARTY ‘Season 2’ Ep. 153\nSALSA NEPAL’s – SALSA PARTY- EVERY THURSDAY – May 8\, 2025 \n7:30PM onwards – FREE ENTRANCE \n@londonpub.ktm – with Salsa Nepal\nMUSIC by DJ BNYK @binayek\n.\n.\n.\n.\n#salsa #danceclass #forbeginners #dance #nepal #salsanepal #sdanepal #latinmandu #salsamandu #trending #music #love #dancing #dancers #salsaparty
URL:https://salsanepal.com/event/social-salsa-party-s02e154/
LOCATION:London Pub\, Durbarmarg\, Kathmandu\, Bagmati\, 44600\, Nepal
CATEGORIES:SBK Party,Social Salsa
ATTACH;FMTTYPE=image/jpeg:https://salsanepal.com/wp-content/uploads/2025/05/May-15-WEB-Social-Salsa-2024-Edited-File-1x1-1.jpg
ORGANIZER;CN="Salsa Nepal":MAILTO:info@salsanepal.com
END:VEVENT
BEGIN:VEVENT
DTSTART;TZID=Asia/Kathmandu:20250517T180000
DTEND;TZID=Asia/Kathmandu:20250517T230000
DTSTAMP:20260421T051927
CREATED:20250512T110437Z
LAST-MODIFIED:20250512T110437Z
UID:470-1747504800-1747522800@salsanepal.com
SUMMARY:Latin Sensational Salsa Party XIII
DESCRIPTION:Spice up your weekend at the Latin Sensational Salsa Party at Cafe Lava!\, Let DJ Bnyk set the rhythm on fire with electrifying beats and non-stop Salsa\, Bachata and Kizomba hits. Whether you’re dancing or just vibing\, this is the ultimate party to feel the Latin heat! #SalsaWithBnyk #CafeLavaVibes \nFree Entry – 6:00PM onwards\nVenue: Cafe Lava – Pani Pokhari
URL:https://salsanepal.com/event/latin-sensational-salsa-party-xiii/
LOCATION:Cafe Lava\, Pani Pokhari\, Kathmandu\, Bagmati\, 446000\, Nepal
CATEGORIES:SBK Party
ATTACH;FMTTYPE=image/jpeg:https://salsanepal.com/wp-content/uploads/2025/05/May-17-WEB-Latin-Sesational-Salsa-Party-EditFile-1x1-1.jpg
ORGANIZER;CN="Salsa Nepal":MAILTO:info@salsanepal.com
END:VEVENT
BEGIN:VEVENT
DTSTART;TZID=Asia/Kathmandu:20250522T193000
DTEND;TZID=Asia/Kathmandu:20250522T233000
DTSTAMP:20260421T051927
CREATED:20250525T184800Z
LAST-MODIFIED:20250525T184800Z
UID:482-1747942200-1747956600@salsanepal.com
SUMMARY:Social Salsa Party S02E155
DESCRIPTION:SOCIAL SALSA NIGHT ”It’s your Party” \nSOCIAL SALSA PARTY ‘Season 2’ Ep. 155\nSALSA NEPAL’s – SALSA PARTY- EVERY THURSDAY – May 22\, 2025 \n7:30PM onwards – FREE ENTRANCE \n@londonpub.ktm – with Salsa Nepal\nMUSIC by DJ BNYK @binayek\n.\n.\n.\n.\n#salsa #danceclass #forbeginners #dance #nepal #salsanepal #sdanepal #latinmandu #salsamandu #trending #music #love #dancing #dancers #salsaparty
URL:https://salsanepal.com/event/social-salsa-party-s02e155/
LOCATION:London Pub\, Durbarmarg\, Kathmandu\, Bagmati\, 44600\, Nepal
CATEGORIES:SBK Party,Social Salsa
ATTACH;FMTTYPE=image/jpeg:https://salsanepal.com/wp-content/uploads/2025/05/May-22-WEB-Social-Salsa-2024-Edited-File-1x1-1.jpg
ORGANIZER;CN="Salsa Nepal":MAILTO:info@salsanepal.com
END:VEVENT
BEGIN:VEVENT
DTSTART;TZID=Asia/Kathmandu:20250529T193000
DTEND;TZID=Asia/Kathmandu:20250529T233000
DTSTAMP:20260421T051927
CREATED:20250525T184936Z
LAST-MODIFIED:20250525T190200Z
UID:486-1748547000-1748561400@salsanepal.com
SUMMARY:Social Salsa Party S02E156
DESCRIPTION:SOCIAL SALSA NIGHT ”It’s your Party” \nSOCIAL SALSA PARTY ‘Season 2’ Ep. 156\nSALSA NEPAL’s – SALSA PARTY- EVERY THURSDAY – May 29\, 2025 \n7:30PM onwards – FREE ENTRANCE \n@londonpub.ktm – with Salsa Nepal\nMUSIC by DJ BNYK @binayek\n.\n.\n.\n.\n#salsa #danceclass #forbeginners #dance #nepal #salsanepal #sdanepal #latinmandu #salsamandu #trending #music #love #dancing #dancers #salsaparty
URL:https://salsanepal.com/event/social-salsa-party-s02e156/
LOCATION:London Pub\, Durbarmarg\, Kathmandu\, Bagmati\, 44600\, Nepal
CATEGORIES:SBK Party,Social Salsa
ATTACH;FMTTYPE=image/jpeg:https://salsanepal.com/wp-content/uploads/2025/05/16x9-scale-Social-Salsa-Designn.jpg
ORGANIZER;CN="Salsa Nepal":MAILTO:info@salsanepal.com
END:VEVENT
END:VCALENDAR