BEGIN:VCALENDAR
VERSION:2.0
PRODID:-//SALSA NEPAL  - ECPv6.15.20//NONSGML v1.0//EN
CALSCALE:GREGORIAN
METHOD:PUBLISH
X-ORIGINAL-URL:https://salsanepal.com
X-WR-CALDESC:Events for SALSA NEPAL 
REFRESH-INTERVAL;VALUE=DURATION:PT1H
X-Robots-Tag:noindex
X-PUBLISHED-TTL:PT1H
BEGIN:VTIMEZONE
TZID:Asia/Kathmandu
BEGIN:STANDARD
TZOFFSETFROM:+0545
TZOFFSETTO:+0545
TZNAME:+0545
DTSTART:20240101T000000
END:STANDARD
END:VTIMEZONE
BEGIN:VEVENT
DTSTART;TZID=Asia/Kathmandu:20250313T190000
DTEND;TZID=Asia/Kathmandu:20250313T230000
DTSTAMP:20260421T083554
CREATED:20250303T045910Z
LAST-MODIFIED:20250303T045910Z
UID:332-1741892400-1741906800@salsanepal.com
SUMMARY:HOLI - SBK Party @ Nepal House
DESCRIPTION:HOLI – SBK Party\nTHURSDAY\, MARCH 13\, 2025\nVenue: Nepal House – Hattisar\n7:00PM onwards
URL:https://salsanepal.com/event/holi-sbk-party-nepal-house/
LOCATION:Bagmati
CATEGORIES:SBK Party
ATTACH;FMTTYPE=image/jpeg:https://salsanepal.com/wp-content/uploads/2025/03/web-Holi-Salsanight-Nepalhouse.jpg
END:VEVENT
BEGIN:VEVENT
DTSTART;TZID=Asia/Kathmandu:20250315T190000
DTEND;TZID=Asia/Kathmandu:20250315T223000
DTSTAMP:20260421T083554
CREATED:20250303T073808Z
LAST-MODIFIED:20250303T074640Z
UID:335-1742065200-1742077800@salsanepal.com
SUMMARY:Latin Sensational Salsa Party VI
DESCRIPTION:Spice up your weekend at the Latin Sensational Salsa Party at Cafe Lava!\, Let DJ Bnyk set the rhythm on fire with electrifying beats and non-stop Salsa\, Bachata and Kizomba hits. Whether you’re dancing or just vibing\, this is the ultimate party to feel the Latin heat! #SalsaWithBnyk #CafeLavaVibes \nFree Entry – 7:00PM onwards\nVenue: Cafe Lava – Pani Pokhari
URL:https://salsanepal.com/event/latin-sensational-salsa-party-vi/
LOCATION:Cafe Lava\, Pani Pokhari\, Kathmandu\, Bagmati\, 446000\, Nepal
CATEGORIES:Salsa Night,SBK Party
ATTACH;FMTTYPE=image/jpeg:https://salsanepal.com/wp-content/uploads/2025/02/Wed-Latin-Sesational-Salsa-Party-EditFile-1x1-1.jpg
END:VEVENT
BEGIN:VEVENT
DTSTART;TZID=Asia/Kathmandu:20250321T190000
DTEND;TZID=Asia/Kathmandu:20250321T233000
DTSTAMP:20260421T083554
CREATED:20250317T053447Z
LAST-MODIFIED:20250317T053447Z
UID:350-1742583600-1742599800@salsanepal.com
SUMMARY:Salsa Night @ Sync Lounge
DESCRIPTION:SALSA NIGHT PARTYFRIDAY\, MARCH 21\, 20257 pm onwards – Free EntranceWith Dj Bnyk Salsa Nepal & your DJ/Instructor Binayek Das Shrestha @binayek....#salsa #danceclass #forbeginners #dance #nepal #salsanepal #sdanepal #dancer #music #love #dancing #dancers #salsaparty #art #instagram #instagood #like #dancelife #explorepage #follow #trending #fitness #viral #dancersofinstagram #fun #explore #likeforlikes #fashion #bhfyp
URL:https://salsanepal.com/event/salsa-night-sync-lounge-2/
LOCATION:Sync Lounge\, Haitsar\, Kathmandu\, Bagmati\, 446000\, Nepal
CATEGORIES:SBK Party
ATTACH;FMTTYPE=image/png:https://salsanepal.com/wp-content/uploads/2025/03/web-IMG_7737.png
ORGANIZER;CN="Salsa Nepal":MAILTO:info@salsanepal.com
END:VEVENT
BEGIN:VEVENT
DTSTART;TZID=Asia/Kathmandu:20250322T190000
DTEND;TZID=Asia/Kathmandu:20250322T190000
DTSTAMP:20260421T083554
CREATED:20250311T175408Z
LAST-MODIFIED:20250311T180307Z
UID:343-1742670000-1742670000@salsanepal.com
SUMMARY:Latin Sensational Salsa Party VII
DESCRIPTION:Spice up your weekend at the Latin Sensational Salsa Party at Cafe Lava!\, Let DJ Bnyk set the rhythm on fire with electrifying beats and non-stop Salsa\, Bachata and Kizomba hits. Whether you’re dancing or just vibing\, this is the ultimate party to feel the Latin heat! #SalsaWithBnyk #CafeLavaVibes \nFree Entry – 7:00PM onwards\nVenue: Cafe Lava – Pani Pokhari
URL:https://salsanepal.com/event/latin-sensational-salsa-party-vii/
LOCATION:Cafe Lava\, Pani Pokhari\, Kathmandu\, Bagmati\, 446000\, Nepal
CATEGORIES:Salsa Night,SBK Party
ATTACH;FMTTYPE=image/jpeg:https://salsanepal.com/wp-content/uploads/2025/03/Web-ES-Latin-Sesational-Salsa-Party-EditFile-1x1-1.jpg
ORGANIZER;CN="Salsa Nepal":MAILTO:info@salsanepal.com
END:VEVENT
BEGIN:VEVENT
DTSTART;TZID=Asia/Kathmandu:20250326T190000
DTEND;TZID=Asia/Kathmandu:20250326T220000
DTSTAMP:20260421T083554
CREATED:20250320T202848Z
LAST-MODIFIED:20250320T202848Z
UID:367-1743015600-1743026400@salsanepal.com
SUMMARY:Salsa Night @ Hilton Kathmandu
DESCRIPTION:SALSA NIGHT AT ORION\, HOTEL HILTON\, NAXAL\nOn Wednesday\, March 26\, 2025\n7:00-10:00PM \nDress Code: Smart & Elegant \n– FREE ENTRANCE \n@hiltonkathmandu – with Salsa Nepal\nMUSIC by DJ BNYK @binayek\n.\n.\n.\n#salsa #danceclass #forbeginners #dance #nepal #salsanepal #sdanepal #latinmandu #salsamandu #trending #music #love #dancing #dancers #salsaparty #art #instagram #dancelife #explorepage #follow #trending #fitness #viral #dancersofinstagram #fun #explore #likeforlikes #bhfyp #latinmandu
URL:https://salsanepal.com/event/salsa-night-hilton-kathmandu/
LOCATION:Hilton Kathmandu\, Thirbum Sadak\, Kathmandu\, Bagmati\, 446000\, Nepal
CATEGORIES:SBK Party
ATTACH;FMTTYPE=image/png:https://salsanepal.com/wp-content/uploads/2025/03/web-Salsa-Night-Hilton-march-26-1x1-1.png
ORGANIZER;CN="Salsa Nepal":MAILTO:info@salsanepal.com
END:VEVENT
BEGIN:VEVENT
DTSTART;TZID=Asia/Kathmandu:20250329T190000
DTEND;TZID=Asia/Kathmandu:20250329T223000
DTSTAMP:20260421T083554
CREATED:20250320T203030Z
LAST-MODIFIED:20250320T203030Z
UID:372-1743274800-1743287400@salsanepal.com
SUMMARY:Latin Sensational Salsa Party VIII
DESCRIPTION:Spice up your weekend at the Latin Sensational Salsa Party at Cafe Lava!\, Let DJ Bnyk set the rhythm on fire with electrifying beats and non-stop Salsa\, Bachata and Kizomba hits. Whether you’re dancing or just vibing\, this is the ultimate party to feel the Latin heat! #SalsaWithBnyk #CafeLavaVibes \nFree Entry – 7:00PM onwards\nVenue: Cafe Lava – Pani Pokhari
URL:https://salsanepal.com/event/latin-sensational-salsa-party-viii/
LOCATION:Cafe Lava\, Pani Pokhari\, Kathmandu\, Bagmati\, 446000\, Nepal
CATEGORIES:Salsa Night,SBK Party
ATTACH;FMTTYPE=image/jpeg:https://salsanepal.com/wp-content/uploads/2025/03/Web-ES-Latin-Sesational-Salsa-Party-EditFile-1x1-1.jpg
ORGANIZER;CN="Salsa Nepal":MAILTO:info@salsanepal.com
END:VEVENT
END:VCALENDAR