BEGIN:VCALENDAR
VERSION:2.0
PRODID:-//SALSA NEPAL  - ECPv6.15.20//NONSGML v1.0//EN
CALSCALE:GREGORIAN
METHOD:PUBLISH
X-ORIGINAL-URL:https://salsanepal.com
X-WR-CALDESC:Events for SALSA NEPAL 
REFRESH-INTERVAL;VALUE=DURATION:PT1H
X-Robots-Tag:noindex
X-PUBLISHED-TTL:PT1H
BEGIN:VTIMEZONE
TZID:Asia/Kathmandu
BEGIN:STANDARD
TZOFFSETFROM:+0545
TZOFFSETTO:+0545
TZNAME:+0545
DTSTART:20240101T000000
END:STANDARD
END:VTIMEZONE
BEGIN:VEVENT
DTSTART;TZID=Asia/Kathmandu:20250405T190000
DTEND;TZID=Asia/Kathmandu:20250405T223000
DTSTAMP:20260421T214816
CREATED:20250330T173014Z
LAST-MODIFIED:20250404T074155Z
UID:388-1743879600-1743892200@salsanepal.com
SUMMARY:Latin Sensational Salsa Party IX
DESCRIPTION:Spice up your weekend at the Latin Sensational Salsa Party at Cafe Lava!\, Let DJ Bnyk set the rhythm on fire with electrifying beats and non-stop Salsa\, Bachata and Kizomba hits. Whether you’re dancing or just vibing\, this is the ultimate party to feel the Latin heat! #SalsaWithBnyk #CafeLavaVibes \nFree Entry – 7:00PM onwards\nVenue: Cafe Lava – Pani Pokhari
URL:https://salsanepal.com/event/latin-sensational-salsa-party-ix/
LOCATION:Cafe Lava\, Pani Pokhari\, Kathmandu\, Bagmati\, 446000\, Nepal
CATEGORIES:Salsa Night,SBK Party
ATTACH;FMTTYPE=image/jpeg:https://salsanepal.com/wp-content/uploads/2025/03/Web-ES-Latin-Sesational-Salsa-Party-EditFile-1x1-2.jpg
ORGANIZER;CN="Salsa Nepal":MAILTO:info@salsanepal.com
END:VEVENT
BEGIN:VEVENT
DTSTART;TZID=Asia/Kathmandu:20250409T190000
DTEND;TZID=Asia/Kathmandu:20250409T220000
DTSTAMP:20260421T214816
CREATED:20250404T075843Z
LAST-MODIFIED:20250404T075843Z
UID:399-1744225200-1744236000@salsanepal.com
SUMMARY:Salsa & Stilettos @ Raksi Music Bar
DESCRIPTION:Step into your stilettos and sway to the rhythm! ✨ Salsa & Stilettos is your midweek glam escape—where the beats are hot\, the drinks are smooth\, and the dance floor is calling. \nEvery Wednesday | 5 PM – 10 PM\nSalsa with Binayek | 8 PM – 10 PM\nFirst drink on the house for all ladies! \nTag your dance squad and let’s salsa the night away! \nRaksi Bar\, Marriott Kathmandu\n+977-9801971644
URL:https://salsanepal.com/event/salsa-stilettos-raksi-music-bar-2/
LOCATION:Raksi Music Bar\, Hotel Marriott\, Manakamana Marg\, Kathmandu\, Bagmati\, 446000\, Nepal
CATEGORIES:Bachata Night,Salsa Night,SBK Party
ATTACH;FMTTYPE=image/jpeg:https://salsanepal.com/wp-content/uploads/2025/04/WhatsApp-Image-2025-04-02-at-14.49.58.jpeg
ORGANIZER;CN="Salsa Nepal":MAILTO:info@salsanepal.com
END:VEVENT
BEGIN:VEVENT
DTSTART;TZID=Asia/Kathmandu:20250425T193000
DTEND;TZID=Asia/Kathmandu:20250425T233000
DTSTAMP:20260421T214816
CREATED:20250414T070048Z
LAST-MODIFIED:20250421T090228Z
UID:429-1745609400-1745623800@salsanepal.com
SUMMARY:Salsa Night @ Sync Lounge
DESCRIPTION:SALSA NIGHT PARTYFRIDAY\, APRIL 25\, 20257 pm onwards – Free EntranceWith Dj Bnyk Salsa Nepal & your DJ/Instructor Binayek Das Shrestha @binayek....#salsa #danceclass #forbeginners #dance #nepal #salsanepal #sdanepal #dancer #music #love #dancing #dancers #salsaparty #art #instagram #instagood #like #dancelife #explorepage #follow #trending #fitness #viral #dancersofinstagram #fun #explore #likeforlikes #fashion #bhfyp
URL:https://salsanepal.com/event/salsa-night-sync-lounge-3/
LOCATION:Sync Lounge\, Haitsar\, Kathmandu\, Bagmati\, 446000\, Nepal
CATEGORIES:Salsa Night,SBK Party
ATTACH;FMTTYPE=image/jpeg:https://salsanepal.com/wp-content/uploads/2025/04/WhatsApp-Image-2025-04-21-at-14.44.11.jpeg
ORGANIZER;CN="Salsa Nepal":MAILTO:info@salsanepal.com
END:VEVENT
BEGIN:VEVENT
DTSTART;TZID=Asia/Kathmandu:20250430T190000
DTEND;TZID=Asia/Kathmandu:20250430T220000
DTSTAMP:20260421T214816
CREATED:20250428T173910Z
LAST-MODIFIED:20250428T180210Z
UID:445-1746039600-1746050400@salsanepal.com
SUMMARY:Salsa & Stilettos @ Raksi Music Bar
DESCRIPTION:Step into your stilettos and sway to the rhythm!  Salsa & Stilettos is your midweek glam escape—where the beats are hot\, the drinks are smooth\, and the dance floor is calling. \nEvery Wednesday | 5 PM – 10 PM\nSalsa with Binayek | 8 PM – 10 PM\nFirst drink on the house for all ladies! \nTag your dance squad and let’s salsa the night away! \nRaksi Bar\, Marriott Kathmandu\n+977-9801971644
URL:https://salsanepal.com/event/salsa-stilettos-raksi-music-bar-5/
LOCATION:Raksi Music Bar\, Hotel Marriott\, Manakamana Marg\, Kathmandu\, Bagmati\, 446000\, Nepal
CATEGORIES:Salsa Night,SBK Party
ORGANIZER;CN="Salsa Nepal":MAILTO:info@salsanepal.com
END:VEVENT
BEGIN:VEVENT
DTSTART;TZID=Asia/Kathmandu:20250606T193000
DTEND;TZID=Asia/Kathmandu:20250606T233000
DTSTAMP:20260421T214816
CREATED:20250603T051928Z
LAST-MODIFIED:20250603T051928Z
UID:501-1749238200-1749252600@salsanepal.com
SUMMARY:Salsa Night @ Sync Lounge
DESCRIPTION:SALSA NIGHT PARTYFRIDAY\, June 6\, 20257:30pm onwards – Free EntranceWith Dj Bnyk Salsa Nepal & your DJ/Instructor Binayek Das Shrestha @binayek....#salsa #danceclass #forbeginners #dance #nepal #salsanepal #sdanepal #dancer #music #love #dancing #dancers #salsaparty #art #instagram #instagood #like #dancelife #explorepage #follow #trending #fitness #viral #dancersofinstagram #fun #explore #likeforlikes #fashion #bhfyp
URL:https://salsanepal.com/event/salsa-night-sync-lounge-4/
LOCATION:Sync Lounge\, Haitsar\, Kathmandu\, Bagmati\, 446000\, Nepal
CATEGORIES:Salsa Night,SBK Party
ATTACH;FMTTYPE=image/jpeg:https://salsanepal.com/wp-content/uploads/2025/06/WhatsApp-Image-2025-06-03-at-11.02.45.jpeg
ORGANIZER;CN="Salsa Nepal":MAILTO:info@salsanepal.com
END:VEVENT
BEGIN:VEVENT
DTSTART;TZID=Asia/Kathmandu:20250704T193000
DTEND;TZID=Asia/Kathmandu:20250704T223000
DTSTAMP:20260421T214816
CREATED:20250630T072358Z
LAST-MODIFIED:20250630T072448Z
UID:534-1751657400-1751668200@salsanepal.com
SUMMARY:Friday Night Salsa Party at Aloft Kathmandu
DESCRIPTION:Get Ready for FRIDAY NIGHT SALSA PARTY – at New Venue \nNYLGIRI\, ALOFT Kathmandu\nThamel\, \nDate: Friday\, July 4\, 2025\n7:30PM onwards\nDress Code: Casual & Sexy \nGet 25% Discount on your Bill. \nMusic By: Dj BNYK @binayek\n#AloftKathmanduThamel #Nylgiri #SalsaNepal #SalsaParty #FridayNight #DjBnyk #SBKParty #LatinDance #LatinMusic
URL:https://salsanepal.com/event/friday-night-salsa-party-at-aloft-kathmandu/
LOCATION:Nylgiri – Aloft Kathmandu\, thamel\, Kathmandu\, Bagmati\, 44600\, Nepal
CATEGORIES:Salsa Night,SBK Party
ATTACH;FMTTYPE=image/jpeg:https://salsanepal.com/wp-content/uploads/2025/06/FB-web-Cover.jpg
END:VEVENT
BEGIN:VEVENT
DTSTART;TZID=Asia/Kathmandu:20250824T193000
DTEND;TZID=Asia/Kathmandu:20250824T233000
DTSTAMP:20260421T214816
CREATED:20250820T044119Z
LAST-MODIFIED:20250827T043754Z
UID:646-1756063800-1756078200@salsanepal.com
SUMMARY:Sunday Night Socials – Something Extra!
DESCRIPTION:SUNDAY NIGHT SOCIAL \nSALSA NEPAL’s – SALSA PARTY- SUNDAY- August 24\, 2025 \n7:30PM onwards – FREE ENTRANCE \n@londonpub.ktm – with Salsa Nepal \nMUSIC by DJ BNYK @binayek \n. \n. \n#salsa #danceclass #forbeginners #dance #nepal #salsanepal #sdanepal #latinmandu #salsamandu #trending #music #love #dancing #dancers #salsaparty #art #instagram #dancelife #explorepage #follow #trending #fitness #viral #dancersofinstagram #fun #explore #likeforlikes #bhfyp #latinmandu
URL:https://salsanepal.com/event/sunday-night-socials-something-extra-5/
LOCATION:London Pub\, Durbarmarg\, Kathmandu\, Bagmati\, 44600\, Nepal
CATEGORIES:Salsa Night,SBK Party
ATTACH;FMTTYPE=image/jpeg:https://salsanepal.com/wp-content/uploads/2025/08/Aug-24-WEB-Sunday-Night-Social_1920x1080.jpg
ORGANIZER;CN="Salsa Nepal":MAILTO:info@salsanepal.com
END:VEVENT
BEGIN:VEVENT
DTSTART;TZID=Asia/Kathmandu:20250919T193000
DTEND;TZID=Asia/Kathmandu:20250919T233000
DTSTAMP:20260421T214816
CREATED:20250905T051247Z
LAST-MODIFIED:20250905T051247Z
UID:671-1758310200-1758324600@salsanepal.com
SUMMARY:Friday Night Salsa Party at Elevates
DESCRIPTION:✨ FRIDAY NIGHT SALSA PARTY – your weekend the right way!!! \nFriday\, September 19th 2025\, let the rhythm move you as DJ BNYK @binayek spins the hottest beats at Elevate Lounge and Ktv\, Ranjana Gali\, Newroad. The dance floor opens at 7:30 PM onwards—bring your best moves… \nGet ready for a night of amazing music\, vibrant energy\, and unforgettable vibes. Don’t just hear about it—be part of it! \nFollowed up by In-House DJ after PARTY…. \n#TGIF #SalsaNight #KathmanduNightlife #FridayVibes\n#DanceParty #ElevateKathmandu #MusicIsLife #NightOut\n#WeekendReady #SalsaLovers #NepalDance
URL:https://salsanepal.com/event/friday-night-salsa-party-at-elevates/
LOCATION:Elevate Lounge And KTV\, Newroad\, Kathmandu\, Bagmati\, 44600\, Nepal
CATEGORIES:Salsa Night,SBK Party
ATTACH;FMTTYPE=image/jpeg:https://salsanepal.com/wp-content/uploads/2025/09/Sept-19-Friday-Night-Salsa-atElevates-4x5-1.jpg
ORGANIZER;CN="Salsa Nepal":MAILTO:info@salsanepal.com
END:VEVENT
END:VCALENDAR