BEGIN:VCALENDAR
VERSION:2.0
PRODID:-//SALSA NEPAL  - ECPv6.15.20//NONSGML v1.0//EN
CALSCALE:GREGORIAN
METHOD:PUBLISH
X-WR-CALNAME:SALSA NEPAL 
X-ORIGINAL-URL:https://salsanepal.com
X-WR-CALDESC:Events for SALSA NEPAL 
REFRESH-INTERVAL;VALUE=DURATION:PT1H
X-Robots-Tag:noindex
X-PUBLISHED-TTL:PT1H
BEGIN:VTIMEZONE
TZID:Asia/Kathmandu
BEGIN:STANDARD
TZOFFSETFROM:+0545
TZOFFSETTO:+0545
TZNAME:+0545
DTSTART:20250101T000000
END:STANDARD
END:VTIMEZONE
BEGIN:VEVENT
DTSTART;TZID=Asia/Kathmandu:20260420T190000
DTEND;TZID=Asia/Kathmandu:20260420T220000
DTSTAMP:20260420T060947
CREATED:20260330T182731Z
LAST-MODIFIED:20260330T182731Z
UID:984-1776711600-1776722400@salsanepal.com
SUMMARY:Monday Night Socials
DESCRIPTION:MONDAY NIGHT SOCIALS\nPART of the SOCIAL WEEK CHALLENGE\nStart your week with music\, dance & laughter!\nAll dancers welcome – beginners\, intermediates or pros…\nLet’s make Monday magical! \nHosted by SALSA NEPAL \nMonday\, 20th April 2026\n Saké & Feng\, Hotel Le Himalaya – Lazimpat\n 7PM – 10 PM\n Music by DJ BNYK – Salsa • Bachata • Kizomba\n Free Entry | Free Parking \nBring your friends\, your dance shoes and your best smile – it’s your night! \n#mondaynightsocials #salsanepal #salsadance #sakeandfeng #djbnyk #latindance #latinmusic #lazimpatkathmandu\n#salsamandu #bachatandu #latinmandu
URL:https://salsanepal.com/event/monday-night-socials-8/
LOCATION:Saké & Feng\, Hotel Le Himalaya\, Hotel Le Himalaya\, Kathmandu\, Bagmati\, 446000\, Nepal
CATEGORIES:SBK Party
ATTACH;FMTTYPE=image/jpeg:https://salsanepal.com/wp-content/uploads/2026/03/April-20-Sake-and-Feng-landscape.jpg
ORGANIZER;CN="Salsa Nepal":MAILTO:info@salsanepal.com
END:VEVENT
END:VCALENDAR